BEGIN:VCALENDAR
VERSION:2.0
PRODID:-//PIANC Australia &amp; New Zealand - ECPv6.15.17.1//NONSGML v1.0//EN
CALSCALE:GREGORIAN
METHOD:PUBLISH
X-WR-CALNAME:PIANC Australia &amp; New Zealand
X-ORIGINAL-URL:https://pianc.org.au
X-WR-CALDESC:Events for PIANC Australia &amp; New Zealand
REFRESH-INTERVAL;VALUE=DURATION:PT1H
X-Robots-Tag:noindex
X-PUBLISHED-TTL:PT1H
BEGIN:VTIMEZONE
TZID:Australia/Melbourne
BEGIN:STANDARD
TZOFFSETFROM:+1100
TZOFFSETTO:+1000
TZNAME:AEST
DTSTART:20250405T160000
END:STANDARD
BEGIN:DAYLIGHT
TZOFFSETFROM:+1000
TZOFFSETTO:+1100
TZNAME:AEDT
DTSTART:20251004T160000
END:DAYLIGHT
BEGIN:STANDARD
TZOFFSETFROM:+1100
TZOFFSETTO:+1000
TZNAME:AEST
DTSTART:20260404T160000
END:STANDARD
BEGIN:DAYLIGHT
TZOFFSETFROM:+1000
TZOFFSETTO:+1100
TZNAME:AEDT
DTSTART:20261003T160000
END:DAYLIGHT
BEGIN:STANDARD
TZOFFSETFROM:+1100
TZOFFSETTO:+1000
TZNAME:AEST
DTSTART:20270403T160000
END:STANDARD
BEGIN:DAYLIGHT
TZOFFSETFROM:+1000
TZOFFSETTO:+1100
TZNAME:AEDT
DTSTART:20271002T160000
END:DAYLIGHT
END:VTIMEZONE
BEGIN:VEVENT
DTSTART;TZID=Australia/Melbourne:20260430T140000
DTEND;TZID=Australia/Melbourne:20260430T170000
DTSTAMP:20260420T040027
CREATED:20260413T003628Z
LAST-MODIFIED:20260413T022421Z
UID:16254-1777557600-1777568400@pianc.org.au
SUMMARY:PIANC VIC - Searoad Ferries Queenscliff Site Visit 30 April 2026
DESCRIPTION:PIANC VIC – Searoad Ferries Queenscliff Terminal Site Visit\n\nPIANC VIC welcomes members and non-members to join us for an information session & site visit Thursday afternoon 30 April\, followed by a drink and nibbles with like-minded peers and local leaders from the ports and maritime industry. \nWe will hear from: \n-CEO of Searoad Ferries Matt McDonald to provide an overview of the recent Queenscliff Ferry terminal upgrade and to provide a show-and-tell tour of the facilities\, including the berthing arrangement\, dredge pocket and the pedestrian loading boom. \n–Parks Victoria to present an overview of their role in managing recreational navigation infrastructure around Port Phillip Bay\, with insights into small‑scale dredging programs of recreation-scale facilities and how dredged material can deliver wider coastal and environmental benefits. \nRefreshments and canapes will be provided. Ticket costs are below: \n– PIANC members: Free\n– Non-members: $50 \nRegister here now. \nhttps://www.trybooking.com/events/landing/1568997 \nPIANC events count towards your Professional Development Plan (PDP). \nhttps://pianc.org.au/ \n\n\nDATE\nThursday 30 April 2026 2:00 PM – 5:00 PM (UTC+10) \n\n\nLOCATION\n Get directions\n\n\nTarra\, Queenscliff Ferry Terminal\n1 Wharf Street East\, Queenscliff Victoria 3225 \n\nThanks to event sponsors:
URL:https://pianc.org.au/event/pianc-vic-searoad-ferries-queenscliff-site-visit-30-april-2026/
CATEGORIES:PIANC Aus & NZ
ATTACH;FMTTYPE=image/png:https://pianc.org.au/wp-content/uploads/2026/04/PIANC-VIC-30-April-2026.png
END:VEVENT
END:VCALENDAR