BEGIN:VCALENDAR
VERSION:2.0
PRODID:-//PIANC Australia &amp; New Zealand - ECPv6.15.17.1//NONSGML v1.0//EN
CALSCALE:GREGORIAN
METHOD:PUBLISH
X-WR-CALNAME:PIANC Australia &amp; New Zealand
X-ORIGINAL-URL:https://pianc.org.au
X-WR-CALDESC:Events for PIANC Australia &amp; New Zealand
REFRESH-INTERVAL;VALUE=DURATION:PT1H
X-Robots-Tag:noindex
X-PUBLISHED-TTL:PT1H
BEGIN:VTIMEZONE
TZID:Pacific/Auckland
BEGIN:STANDARD
TZOFFSETFROM:+1300
TZOFFSETTO:+1200
TZNAME:NZST
DTSTART:20250405T140000
END:STANDARD
BEGIN:DAYLIGHT
TZOFFSETFROM:+1200
TZOFFSETTO:+1300
TZNAME:NZDT
DTSTART:20250927T140000
END:DAYLIGHT
BEGIN:STANDARD
TZOFFSETFROM:+1300
TZOFFSETTO:+1200
TZNAME:NZST
DTSTART:20260404T140000
END:STANDARD
BEGIN:DAYLIGHT
TZOFFSETFROM:+1200
TZOFFSETTO:+1300
TZNAME:NZDT
DTSTART:20260926T140000
END:DAYLIGHT
BEGIN:STANDARD
TZOFFSETFROM:+1300
TZOFFSETTO:+1200
TZNAME:NZST
DTSTART:20270403T140000
END:STANDARD
BEGIN:DAYLIGHT
TZOFFSETFROM:+1200
TZOFFSETTO:+1300
TZNAME:NZDT
DTSTART:20270925T140000
END:DAYLIGHT
END:VTIMEZONE
BEGIN:VEVENT
DTSTART;TZID=Pacific/Auckland:20260507T123000
DTEND;TZID=Pacific/Auckland:20260507T140000
DTSTAMP:20260420T055122
CREATED:20260415T001626Z
LAST-MODIFIED:20260416T012134Z
UID:16264-1778157000-1778162400@pianc.org.au
SUMMARY:PIANC NZ Lunchtime Webinar: Reflections on climate disclosures for the port sector - 7 May 2026
DESCRIPTION:PIANC Aotearoa New Zealand warmly invites you to join us on a lunchtime webinar on the topic of \nReflections on climate disclosures for the port sector.\nThis session brings together practical perspectives from both sides of  the Tasman. \nThe event is free but registrations are essential.  Please go to TryBooking link  https://www.trybooking.com/nz/BDCR \nDate and time: THURSDAY 7th MAY 2026 –  between 12:30-13:45.  NZST (UTC+12) \nCost: FREE for members and Non- members. All are welcome. \nAbout \nClimate disclosures are quickly evolving from a compliance requirement to just good business practice.  For infrastructure-heavy organisations like ports active consideration of climate risk\, resilience and decarbonisation initiatives are critical for shaping capital decisions\, asset planning and long-term commercial performance. \nThis session brings together practical perspectives from across the Tasman to reflect on methods\, approaches and investor usefulness of disclosures\, as well as the operational and planning benefits of climate-related financial disclosures. \nThe focus is simple — what actually works in practice\, and how to move beyond compliance reporting into insight that underpin good business decisions. \nPresenters \n\nCrystal Lenky\, Head of Environment and Sustainability\, Lyttelton Port Company\nIvan Yancic Jurado\, Sustainability Business Partner\, Flinders Port Holdings\nJames Hughes\, Technical Director: Risk and Resilience\, Tonkin + Taylor\n\nWhat you’ll learn \n\nWhere first-time disclosures may have fallen short and what’s been done about it\nWhat shifts between initial compliance and more decision-useful approaches\nHow climate scenarios translate into real business and investment decisions\nWhat good looks like now across NZ and Australian markets\, and what next\n\nThis event has been generously supported by Tonkin & Taylor.
URL:https://pianc.org.au/event/nz-lunchtime-webinar-reflections-on-climate-disclosures-for-the-port-sector-7-may-2026/
ATTACH;FMTTYPE=image/jpeg:https://pianc.org.au/wp-content/uploads/2026/04/Reflections-on-Climate-Related-Disclosures-for-NZ-Ports.jpg
END:VEVENT
END:VCALENDAR