BEGIN:VCALENDAR
VERSION:2.0
PRODID:-//PIANC Australia &amp; New Zealand - ECPv6.15.17.1//NONSGML v1.0//EN
CALSCALE:GREGORIAN
METHOD:PUBLISH
X-WR-CALNAME:PIANC Australia &amp; New Zealand
X-ORIGINAL-URL:https://pianc.org.au
X-WR-CALDESC:Events for PIANC Australia &amp; New Zealand
REFRESH-INTERVAL;VALUE=DURATION:PT1H
X-Robots-Tag:noindex
X-PUBLISHED-TTL:PT1H
BEGIN:VTIMEZONE
TZID:Pacific/Auckland
BEGIN:STANDARD
TZOFFSETFROM:+1300
TZOFFSETTO:+1200
TZNAME:NZST
DTSTART:20250405T140000
END:STANDARD
BEGIN:DAYLIGHT
TZOFFSETFROM:+1200
TZOFFSETTO:+1300
TZNAME:NZDT
DTSTART:20250927T140000
END:DAYLIGHT
BEGIN:STANDARD
TZOFFSETFROM:+1300
TZOFFSETTO:+1200
TZNAME:NZST
DTSTART:20260404T140000
END:STANDARD
BEGIN:DAYLIGHT
TZOFFSETFROM:+1200
TZOFFSETTO:+1300
TZNAME:NZDT
DTSTART:20260926T140000
END:DAYLIGHT
BEGIN:STANDARD
TZOFFSETFROM:+1300
TZOFFSETTO:+1200
TZNAME:NZST
DTSTART:20270403T140000
END:STANDARD
BEGIN:DAYLIGHT
TZOFFSETFROM:+1200
TZOFFSETTO:+1300
TZNAME:NZDT
DTSTART:20270925T140000
END:DAYLIGHT
END:VTIMEZONE
BEGIN:VTIMEZONE
TZID:Australia/Sydney
BEGIN:STANDARD
TZOFFSETFROM:+1100
TZOFFSETTO:+1000
TZNAME:AEST
DTSTART:20250405T160000
END:STANDARD
BEGIN:DAYLIGHT
TZOFFSETFROM:+1000
TZOFFSETTO:+1100
TZNAME:AEDT
DTSTART:20251004T160000
END:DAYLIGHT
BEGIN:STANDARD
TZOFFSETFROM:+1100
TZOFFSETTO:+1000
TZNAME:AEST
DTSTART:20260404T160000
END:STANDARD
BEGIN:DAYLIGHT
TZOFFSETFROM:+1000
TZOFFSETTO:+1100
TZNAME:AEDT
DTSTART:20261003T160000
END:DAYLIGHT
BEGIN:STANDARD
TZOFFSETFROM:+1100
TZOFFSETTO:+1000
TZNAME:AEST
DTSTART:20270403T160000
END:STANDARD
BEGIN:DAYLIGHT
TZOFFSETFROM:+1000
TZOFFSETTO:+1100
TZNAME:AEDT
DTSTART:20271002T160000
END:DAYLIGHT
END:VTIMEZONE
BEGIN:VTIMEZONE
TZID:Australia/Brisbane
BEGIN:STANDARD
TZOFFSETFROM:+1000
TZOFFSETTO:+1000
TZNAME:AEST
DTSTART:20250101T000000
END:STANDARD
END:VTIMEZONE
BEGIN:VTIMEZONE
TZID:Asia/Kolkata
BEGIN:STANDARD
TZOFFSETFROM:+0530
TZOFFSETTO:+0530
TZNAME:IST
DTSTART:20260101T000000
END:STANDARD
END:VTIMEZONE
BEGIN:VEVENT
DTSTART;TZID=Pacific/Auckland:20260507T123000
DTEND;TZID=Pacific/Auckland:20260507T140000
DTSTAMP:20260420T074156
CREATED:20260415T001626Z
LAST-MODIFIED:20260416T012134Z
UID:16264-1778157000-1778162400@pianc.org.au
SUMMARY:PIANC NZ Lunchtime Webinar: Reflections on climate disclosures for the port sector - 7 May 2026
DESCRIPTION:PIANC Aotearoa New Zealand warmly invites you to join us on a lunchtime webinar on the topic of \nReflections on climate disclosures for the port sector.\nThis session brings together practical perspectives from both sides of  the Tasman. \nThe event is free but registrations are essential.  Please go to TryBooking link  https://www.trybooking.com/nz/BDCR \nDate and time: THURSDAY 7th MAY 2026 –  between 12:30-13:45.  NZST (UTC+12) \nCost: FREE for members and Non- members. All are welcome. \nAbout \nClimate disclosures are quickly evolving from a compliance requirement to just good business practice.  For infrastructure-heavy organisations like ports active consideration of climate risk\, resilience and decarbonisation initiatives are critical for shaping capital decisions\, asset planning and long-term commercial performance. \nThis session brings together practical perspectives from across the Tasman to reflect on methods\, approaches and investor usefulness of disclosures\, as well as the operational and planning benefits of climate-related financial disclosures. \nThe focus is simple — what actually works in practice\, and how to move beyond compliance reporting into insight that underpin good business decisions. \nPresenters \n\nCrystal Lenky\, Head of Environment and Sustainability\, Lyttelton Port Company\nIvan Yancic Jurado\, Sustainability Business Partner\, Flinders Port Holdings\nJames Hughes\, Technical Director: Risk and Resilience\, Tonkin + Taylor\n\nWhat you’ll learn \n\nWhere first-time disclosures may have fallen short and what’s been done about it\nWhat shifts between initial compliance and more decision-useful approaches\nHow climate scenarios translate into real business and investment decisions\nWhat good looks like now across NZ and Australian markets\, and what next\n\nThis event has been generously supported by Tonkin & Taylor.
URL:https://pianc.org.au/event/nz-lunchtime-webinar-reflections-on-climate-disclosures-for-the-port-sector-7-may-2026/
ATTACH;FMTTYPE=image/jpeg:https://pianc.org.au/wp-content/uploads/2026/04/Reflections-on-Climate-Related-Disclosures-for-NZ-Ports.jpg
END:VEVENT
BEGIN:VEVENT
DTSTART;TZID=Australia/Sydney:20260611T140000
DTEND;TZID=Australia/Sydney:20260611T153000
DTSTAMP:20260420T074156
CREATED:20260326T002042Z
LAST-MODIFIED:20260326T205804Z
UID:16247-1781186400-1781191800@pianc.org.au
SUMMARY:PIANC AU-NZ AGM 2026  Thursday 11 June 2026 Online
DESCRIPTION:PIANC AU-NZ Members – SAVE the DATE! \nPIANC AU-NZ will be holding its 2026 AGM on Thursday 11 June from 2-3.30pm AEST \nPlease note that this will be held virtually only. \nOnly financial members may attend. \nMore details will be provided later. \n  \n  \n  \n  \n 
URL:https://pianc.org.au/event/pianc-au-nz-agm-2026-thursday-11-june-2026-zoom/
CATEGORIES:PIANC Aus & NZ
ATTACH;FMTTYPE=image/png:https://pianc.org.au/wp-content/uploads/2026/03/AGM-2026-PIANC.png
END:VEVENT
BEGIN:VEVENT
DTSTART;VALUE=DATE:20260825
DTEND;VALUE=DATE:20260828
DTSTAMP:20260420T074156
CREATED:20260120T234657Z
LAST-MODIFIED:20260212T055832Z
UID:16063-1787616000-1787875199@pianc.org.au
SUMMARY:PIANC APAC 2026 25 - 27 August 2026 Brisbane Registrations OPEN!
DESCRIPTION:4th PIANC Biennial Conference Focusing on Oceania and our Asia-Pacific Neighbours\n\nConnecting and Sharing – Oceania and Asia-Pacific Neighbours\n25-27 August 2026\, Brisbane\, Queensland\, Australia.\nRegistrations now open! https://piancapac.com/registration/\n\nAbstract Submissions are now open! https://piancapac.com/abstracts/\nFor details and expressions of interest go to Conference website: https://piancapac.com/\nOver 320 people attended PIANC APAC 2024\, with attendees from every state and territory in Australia\, as well as international delegates from 17 other countries (Fiji\, Finland\, India\, Indonesia\, Japan\, Malaysia\, New Zealand\, Papua New Guinea\, Philippines\, Singapore\, Solomon Islands\, Spain\, Sweden\, Thailand\, United Kingdom\, United States and Vietnam). We hope to continue to build on this for the 2026 Conference and look forward to seeing you in Brisbane! \nThe 4th Biennial PIANC APAC Conference will be held at the Brisbane Convention & Exhibition Centre. \nKey Dates\n\n27 March 2026 – Abstract submission deadline\n01 May 2026 – Notification to authors\n22 May 2026 – Final extended abstract deadline\n5 June 2026 – Speaker registration deadline\n5 June 2026 – Earlybird registration closes\n25–27 August 2026 – Conference
URL:https://pianc.org.au/event/pianc-apac-2026-25-27-august-2026-brisbane/
LOCATION:Brisbane Convention Centre
CATEGORIES:PIANC Global
ATTACH;FMTTYPE=image/png:https://pianc.org.au/wp-content/uploads/2026/01/PIANC-2026-APAC-Oceania-homepage-website-e1768952573793.png
END:VEVENT
BEGIN:VEVENT
DTSTART;VALUE=DATE:20270221
DTEND;VALUE=DATE:20270227
DTSTAMP:20260420T074156
CREATED:20251202T233009Z
LAST-MODIFIED:20251202T233009Z
UID:15973-1803168000-1803686399@pianc.org.au
SUMMARY:PIANC-COPEDEC XI 2027  India\, 21-26 February 2027
DESCRIPTION:PIANC-COPEDEC XI 2027 to be held at IIT Madras\, Chennai\, India\, 21-26 February 2027 \nPIANC’s Eleventh International Conference on Coastal and Port Engineering in Developing Countries \n2027 Conference theme: \n‘Adapting coastal\, port and waterway infrastructure to the changing climate.’\nPlease note that the deadline for submitting abstracts for PIANC-COPEDEC and applying for fellowships is 15.12.2025. \nFor complete details\, visit https://pianc-copedec2027.in/. \n 
URL:https://pianc.org.au/event/pianc-copedec-xi-2027-india-21-26-february-2027/
CATEGORIES:PIANC Global
ATTACH;FMTTYPE=image/png:https://pianc.org.au/wp-content/uploads/2025/12/ScreenshotCOPEDEC-XI-logos.png
END:VEVENT
END:VCALENDAR