BEGIN:VCALENDAR
VERSION:2.0
PRODID:-//PIANC Australia &amp; New Zealand - ECPv6.15.17.1//NONSGML v1.0//EN
CALSCALE:GREGORIAN
METHOD:PUBLISH
X-WR-CALNAME:PIANC Australia &amp; New Zealand
X-ORIGINAL-URL:https://pianc.org.au
X-WR-CALDESC:Events for PIANC Australia &amp; New Zealand
REFRESH-INTERVAL;VALUE=DURATION:PT1H
X-Robots-Tag:noindex
X-PUBLISHED-TTL:PT1H
BEGIN:VTIMEZONE
TZID:Pacific/Auckland
BEGIN:STANDARD
TZOFFSETFROM:+1300
TZOFFSETTO:+1200
TZNAME:NZST
DTSTART:20240406T140000
END:STANDARD
BEGIN:DAYLIGHT
TZOFFSETFROM:+1200
TZOFFSETTO:+1300
TZNAME:NZDT
DTSTART:20240928T140000
END:DAYLIGHT
BEGIN:STANDARD
TZOFFSETFROM:+1300
TZOFFSETTO:+1200
TZNAME:NZST
DTSTART:20250405T140000
END:STANDARD
BEGIN:DAYLIGHT
TZOFFSETFROM:+1200
TZOFFSETTO:+1300
TZNAME:NZDT
DTSTART:20250927T140000
END:DAYLIGHT
BEGIN:STANDARD
TZOFFSETFROM:+1300
TZOFFSETTO:+1200
TZNAME:NZST
DTSTART:20260404T140000
END:STANDARD
BEGIN:DAYLIGHT
TZOFFSETFROM:+1200
TZOFFSETTO:+1300
TZNAME:NZDT
DTSTART:20260926T140000
END:DAYLIGHT
END:VTIMEZONE
BEGIN:VTIMEZONE
TZID:Australia/Sydney
BEGIN:STANDARD
TZOFFSETFROM:+1100
TZOFFSETTO:+1000
TZNAME:AEST
DTSTART:20240406T160000
END:STANDARD
BEGIN:DAYLIGHT
TZOFFSETFROM:+1000
TZOFFSETTO:+1100
TZNAME:AEDT
DTSTART:20241005T160000
END:DAYLIGHT
BEGIN:STANDARD
TZOFFSETFROM:+1100
TZOFFSETTO:+1000
TZNAME:AEST
DTSTART:20250405T160000
END:STANDARD
BEGIN:DAYLIGHT
TZOFFSETFROM:+1000
TZOFFSETTO:+1100
TZNAME:AEDT
DTSTART:20251004T160000
END:DAYLIGHT
BEGIN:STANDARD
TZOFFSETFROM:+1100
TZOFFSETTO:+1000
TZNAME:AEST
DTSTART:20260404T160000
END:STANDARD
BEGIN:DAYLIGHT
TZOFFSETFROM:+1000
TZOFFSETTO:+1100
TZNAME:AEDT
DTSTART:20261003T160000
END:DAYLIGHT
END:VTIMEZONE
BEGIN:VEVENT
DTSTART;TZID=Pacific/Auckland:20250807T170000
DTEND;TZID=Pacific/Auckland:20250807T210000
DTSTAMP:20260419T233552
CREATED:20250707T032018Z
LAST-MODIFIED:20250731T015547Z
UID:15517-1754586000-1754600400@pianc.org.au
SUMMARY:Port Construction NZ & Pacific -Thurs 7 August 5pm NZST
DESCRIPTION:PIANC Aotearoa NZ invites you to a ‘Port Construction NZ & Pacific’ seminar on Thursday evening 7 August. This free event is focused on port construction projects both completed and currently underway in NZ and the Pacific. Attendance at the event is available in person in Auckland\, Christchurch and Wellington\, and also online. Each of the three presentations will be streamed live into the other location venues. Light food and beverages will be provided at each physical location. \nThe event will provide an opportunity to explore key aspects of these projects—from design/constructability challenges through to physical works—including technical details\, innovations\, lessons learned\, challenges faced\, and how they were effectively managed or overcome. We’re looking forward to the presenters sharing insights and valuable perspectives. \nPresentation 1 – PMNZ Floating Tug Berth: Kate Cushing (PMNZ) & Greg Kroef (Heron) \nVenue: Wellington T&T Office – 161 Victoria Street\, Te Aro\, Wellington 6011 \nPresentation 2  – CCC Akaroa Wharf Project: Gerome Mangalus (HEB) & Jane Benton (CCC) \nVenue: WSP CHCH Office – 12 Moorhouse Avenue\, Addington\, Christchurch 8011 \nPresentation 3 – Vanuatu Wharf Project: BPC & Peter O’Brian (Beca) \nVenue: BECA Auckland Office – 124 Halsey Street\, Auckland Central\, Auckland 1010 \nLocations: Light food and beverages provided at each physical location. \nThank you to our events sponsors: Brian Perry Civil\, Heb Construction and Heron Construction. \nThank you to our venue sponsors: Beca\, Tonkin & Taylor\,and WSP. \n\nThis event is FREE but Registrations are essential.  \n Attending in person in Auckland – please register by QRCode or click here for Auckland https://www.trybooking.com/nz/YFE \n  \n  \nAttending in person in Christchurch- please register by QRCode or click here for Christchurch https://www.trybooking.com/nz/YFD   \n  \n  \nAttending in person in Wellington – please register by QRCode or click here for Wellington: https://www.trybooking.com/nz/events/landing/16340?embed \n  \nAttending online – register by QRCode or click here for attending Online https://www.trybooking.com/nz/YFF\nPlease note that link will be provided after registration.
URL:https://pianc.org.au/event/port-construction-nz-pacific-thurs-7-august-5pm-nzst/
CATEGORIES:PIANC Aus & NZ,PIANC Global
ATTACH;FMTTYPE=image/png:https://pianc.org.au/wp-content/uploads/2025/07/Screenshot-NZ-Pacific-Ports-August-2025-e1753926913749.png
END:VEVENT
BEGIN:VEVENT
DTSTART;TZID=Australia/Sydney:20250818T170000
DTEND;TZID=Australia/Sydney:20250821T173000
DTSTAMP:20260419T233552
CREATED:20250206T010655Z
LAST-MODIFIED:20250520T024213Z
UID:14615-1755536400-1755797400@pianc.org.au
SUMMARY:Australasian Coasts & Ports 2025\, 18 - 21 August 2025\, Adelaide
DESCRIPTION:PIANC AU-NZ & Engineers Australia with the support of Engineering New Zealand and the NZ Coastal Society are excited to invite you to join us for the premier gathering of industry leaders\, researchers\, and professionals in the fields of ports and coastal engineering. Set against the stunning backdrop of Adelaide\, Australia\, this conference promises to be an exceptional platform for knowledge sharing\, collaboration\, and innovation. \n Our Conference theme is Navigating the Future: Climate Ready Coasts and Ports.\nWith the global challenges facing coastal infrastructure\, maritime transport\, and environmental sustainability\, the 2025 conference will focus on cutting-edge research\, best practices\, and the latest technologies shaping the future of ports and coastal engineering. Whether you’re involved in port management\, coastal resilience\, or marine infrastructure development\, this event will provide invaluable insights into the evolving landscape of our industry. \nThe biennial Coasts and Ports conference has not been held in South Australia since previously in Adelaide in September 2005\, we are excited to host engaging keynote speakers\, interactive technical sessions\, and ample networking opportunities with experts from around Australasia region. \nWe look forward to welcoming you to Adelaide to join us and be part of shaping the future of coastal and maritime engineering. \nPaul Constance\nConference Chair \nKEY DATES\n\n21st February 2025 – Deadline for Abstract Submissions\n2nd May 2025 – Full Paper Submission Deadline\n13th June 2025 – Reviewed papers returned to authors\n27th June 2025 – Resubmission deadline for revised full papers\n4th July 2025 – Earlybird Registration Closes\n4th July 2025 – Speaker Registration Deadline\n\nAbstract submissions have now closed and the program is being developed.
URL:https://pianc.org.au/event/australasian-coasts-ports-2025-18-21-august-2025-adelaide-call-for-abstracts/
LOCATION:Adelaide Convention Centre\, North Terrace\, Adelaide\, South Australia\, 5000
CATEGORIES:PIANC Global
ATTACH;FMTTYPE=image/jpeg:https://pianc.org.au/wp-content/uploads/2025/02/67450e6159826417c302a533.jpg
END:VEVENT
END:VCALENDAR