BEGIN:VCALENDAR
VERSION:2.0
PRODID:-//PIANC Australia &amp; New Zealand - ECPv6.15.17.1//NONSGML v1.0//EN
CALSCALE:GREGORIAN
METHOD:PUBLISH
X-WR-CALNAME:PIANC Australia &amp; New Zealand
X-ORIGINAL-URL:https://pianc.org.au
X-WR-CALDESC:Events for PIANC Australia &amp; New Zealand
REFRESH-INTERVAL;VALUE=DURATION:PT1H
X-Robots-Tag:noindex
X-PUBLISHED-TTL:PT1H
BEGIN:VTIMEZONE
TZID:Australia/Sydney
BEGIN:STANDARD
TZOFFSETFROM:+1100
TZOFFSETTO:+1000
TZNAME:AEST
DTSTART:20230401T160000
END:STANDARD
BEGIN:DAYLIGHT
TZOFFSETFROM:+1000
TZOFFSETTO:+1100
TZNAME:AEDT
DTSTART:20230930T160000
END:DAYLIGHT
BEGIN:STANDARD
TZOFFSETFROM:+1100
TZOFFSETTO:+1000
TZNAME:AEST
DTSTART:20240406T160000
END:STANDARD
BEGIN:DAYLIGHT
TZOFFSETFROM:+1000
TZOFFSETTO:+1100
TZNAME:AEDT
DTSTART:20241005T160000
END:DAYLIGHT
BEGIN:STANDARD
TZOFFSETFROM:+1100
TZOFFSETTO:+1000
TZNAME:AEST
DTSTART:20250405T160000
END:STANDARD
BEGIN:DAYLIGHT
TZOFFSETFROM:+1000
TZOFFSETTO:+1100
TZNAME:AEDT
DTSTART:20251004T160000
END:DAYLIGHT
END:VTIMEZONE
BEGIN:VEVENT
DTSTART;VALUE=DATE:20240827
DTEND;VALUE=DATE:20240831
DTSTAMP:20260420T211910
CREATED:20250213T082326Z
LAST-MODIFIED:20250213T082326Z
UID:14757-1724716800-1725062399@pianc.org.au
SUMMARY:PIANC APAC 2024: Connecting Asia Pacific ports in a changing world 27-30 August 2024
DESCRIPTION:PIANC APAC 2024 Conference  27 – 30 August Sydney CBD\nPIANC APAC is the biennial forum for all PIANC members from Asia Pacific and beyond focusing on harbours\, ports and recreational boating in the region. Non PIANC members are also very welcome. Our 2024 theme is “Connecting Asia Pacific ports in a changing world.” \nPIANC APAC 2024 will be held in Sydney’s CBD and will build on the success of the previous two conferences.  We are expecting it to be the biggest yet! \nPIANC APAC brings together engineers\, planners\, scientists and researchers to focus on the technological\, scientific\, policy\, planning\, design and operational issues related to our diverse and developing ports\, harbours and recreational boating facilities. \nPIANC APAC 2024 will be held in Sydney in August 2024 and will focus on PIANC’s mission to bring together ports\, harbour and recreational boating professionals to share their ideas at an international forum. \nDuring the Conference\, PIANC APAC 2024 will incorporate concurrent streams facilitating the opportunity for discussion and networking. A trade exhibition will host the Welcome Reception as well as all morning tea\, afternoon tea and lunch breaks. A Gala Dinner is planned with multiple PIANC awards to be presented. In addition\, technical tours and networking events will form part of the conference. \nWe look forward to your active participation in making PIANC APAC 2024 a resounding success and a milestone event in the PIANC AU-NZ calendar. \nConference themes: \n\nPort Planning and Engineering\nPort Operations and Management\nDredging and Reclamation\nDecarbonisation and Climate Change Adaptation\nWorking with Nature\, Environment and Ecosystem Services\nPorts and Shipping Enabling the Clean Energy Transition\nTechnological and Digital Advancements\n\nJoin our APAC2024 mailing list \nWebsite is https://piancapac.com/ \nPlease note that the Sponsorship and Trade Exhibition prospectus is available for download via the conference website –https://piancapac.com/sponsorship/  or download the SPONSORSHIP AND TRADE EXHIBITION PROSPECTUS here. Be quick\, as many sponsorship packages have already been sold!
URL:https://pianc.org.au/event/pianc-apac-2024-connecting-asia-pacific-ports-in-a-changing-world-27-30-august-2024/
CATEGORIES:PIANC Global
ATTACH;FMTTYPE=image/png:https://pianc.org.au/wp-content/uploads/2025/02/APAC2024-call-for-abstracts-16-9-.png
END:VEVENT
END:VCALENDAR