BEGIN:VCALENDAR
VERSION:2.0
PRODID:-//PIANC Australia &amp; New Zealand - ECPv6.15.17.1//NONSGML v1.0//EN
CALSCALE:GREGORIAN
METHOD:PUBLISH
X-ORIGINAL-URL:https://pianc.org.au
X-WR-CALDESC:Events for PIANC Australia &amp; New Zealand
REFRESH-INTERVAL;VALUE=DURATION:PT1H
X-Robots-Tag:noindex
X-PUBLISHED-TTL:PT1H
BEGIN:VTIMEZONE
TZID:Australia/Adelaide
BEGIN:STANDARD
TZOFFSETFROM:+1030
TZOFFSETTO:+0930
TZNAME:ACST
DTSTART:20210403T163000
END:STANDARD
BEGIN:DAYLIGHT
TZOFFSETFROM:+0930
TZOFFSETTO:+1030
TZNAME:ACDT
DTSTART:20211002T163000
END:DAYLIGHT
BEGIN:STANDARD
TZOFFSETFROM:+1030
TZOFFSETTO:+0930
TZNAME:ACST
DTSTART:20220402T163000
END:STANDARD
BEGIN:DAYLIGHT
TZOFFSETFROM:+0930
TZOFFSETTO:+1030
TZNAME:ACDT
DTSTART:20221001T163000
END:DAYLIGHT
BEGIN:STANDARD
TZOFFSETFROM:+1030
TZOFFSETTO:+0930
TZNAME:ACST
DTSTART:20230401T163000
END:STANDARD
BEGIN:DAYLIGHT
TZOFFSETFROM:+0930
TZOFFSETTO:+1030
TZNAME:ACDT
DTSTART:20230930T163000
END:DAYLIGHT
END:VTIMEZONE
BEGIN:VEVENT
DTSTART;TZID=Australia/Adelaide:20220728T153000
DTEND;TZID=Australia/Adelaide:20220728T163000
DTSTAMP:20260422T182536
CREATED:20250224T011154Z
LAST-MODIFIED:20250224T011154Z
UID:14946-1659022200-1659025800@pianc.org.au
SUMMARY:Climate change and related issues impacting navigation and ports. Ron Cox webinar Adelaide 28 July 2022
DESCRIPTION:CLIMATE CHANGE: A DEEP DIVE INTO THE LONG-TERM IMPACTS ON PORTS & NAVIGATION\nThis event was recorded and is now viewable at https://pianc.org.au/resources/webinars-presentations/\nAs we navigate the challenges of climate change\, we often miss the broader and long-term impacts it has on the Navigation and Ports Sectors. \n\nWebinar/Seminar Date: Thursday 28 July \nTime: 3.30 – 4.30pm SA time (ACST)\, 2-3 pm AWST\, 4-5pm AEST \nPlace: Lot Fourteen Lecture Theatre\, Eleanor Harrald Building\,\nFrome Road\, Adelaide CBD\, SA 5000 \nOnline Attendance also available! Register via Eventbrite here:  \nNOTE ONLINE REGISTRATIONS ARE CLOSING TUESDAY 26 JULY AT 5PM AEST \nIn this rare opportunity\, PIANC\, WGA and Flinders Port Holdings welcome Australian Climate Change expert\, the Honorary Associate Professor Ron Cox for a state-of-the-art seminar on global weather patterns\, sea-level changes and the storms of the future. \nTake a deep dive into different perspectives while networking with the industry’s most highly regarded experts across government\, academia and private\, including PIANC Chair Luke Campbell and PIANC SA Chapter Members. \nIn this seminar\, PIANC A&NZ Board member Honorary Associate Professor Ron Cox will present the latest in climate change science impacting the navigation and ports sector as well as addressing the issues of mitigation\, risk and adaptation. \nNote Parallel event – NEWCASTLE CBD streaming of this webinar plus networking -register here ! \n \nAbout Our Speaker  \nHonorary Associate Professor Ron Cox has had extensive experience in coastal\, ocean and port engineering\, coastal management\, water supply and wastewater\, groundwater\, climate impacts and environmental impact/risk assessments in these areas\, working with industry and government\, (local\, state and federal) both within Australia and overseas.\n\nIn 2008 Ron was awarded Engineering Australia’s prestigious Sir John Holland Award for Civil Engineer of the Year\, in recognition of his long standing and continuing contribution to the profession and community\, particularly in the field of coastal engineering.\n\nFrom 2009 to 2020 Ron led the Australian Climate Change Adaptation Research Network for Settlements and Infrastructure (ACCARNSI) with a focus on coastal settlements\, built environment\, infrastructure\, urban planning and management.\n\nIn recent years Ron has provided advice on coastal policy reform to Commonwealth and State governments. Since 2013 he has been particularly involved in the Coastal Policy reforms within NSW and throughout 2015 and 2016 was actively involved in the drafting of the new NSW Coastal Management Act (2016) and its supporting Manual. Ron was a founding member of the independent NSW Coastal Council in 2018 and served for 2 years until 2020.\n  \nWho should attend? \n\n\nScientists\, Engineers\, and students across Maritime\, Structural\, Water\, Civil\, Wind and Environmental. \nFormat:  \n3.30pm – Technical presentation commences \n4.15pm – Q&A and networking \nDrinks and nibbles provided. \nStreaming:  \nThe presentation will be streamed and recorded. Please refer to ticket types to select in person or live stream options. \nEvent Sponsors:  \nWGA (Wallbridge Gilbert Aztec) and Flinders Ports Holdings \n\n\n\n  \nFurther Background: \nThe IPCC (International Panel on Climate Change) has in recent years been active in completing new research and publishing major reports covering science\, mitigation and adaptation\, including: Global warming of 1.5 C (SR15\, 2018)\, Oceans and Cryosphere (SROCC\, 2019) and 6th Assessment Report (AR6\, 2021). \nPIANC has also been active with international working groups completing various climate related reports such as: Environmental Risk Management (WG179\, 2019)\, Carbon Management (WG188\, 2019)\, Resilience (TG193\, 2020)\, Climate Change Adaptation (WG178\, 2020)\, Ecosystem Services (WG195\, 2021). \nThis year PIANC’s own PTGCC (Permanent Task Group on Climate Change) will be releasing an updated report on the earlier Climate Change and Navigation report (TG3\, 2008). Ron Cox is a member of PTGCC and can bring audience members up to date. \n  \n  \n 
URL:https://pianc.org.au/event/climate-change-and-related-issues-impacting-navigation-and-ports-ron-cox-webinar-adelaide-28-july-2022/
CATEGORIES:PIANC Aus & NZ,PIANC Global
ATTACH;FMTTYPE=image/jpeg:https://pianc.org.au/wp-content/uploads/2025/02/62d4b89a5b34bb52261ff1e7s.jpg
END:VEVENT
END:VCALENDAR