BEGIN:VCALENDAR
VERSION:2.0
PRODID:-//PIANC Australia &amp; New Zealand - ECPv6.15.17.1//NONSGML v1.0//EN
CALSCALE:GREGORIAN
METHOD:PUBLISH
X-ORIGINAL-URL:https://pianc.org.au
X-WR-CALDESC:Events for PIANC Australia &amp; New Zealand
REFRESH-INTERVAL;VALUE=DURATION:PT1H
X-Robots-Tag:noindex
X-PUBLISHED-TTL:PT1H
BEGIN:VTIMEZONE
TZID:Australia/Perth
BEGIN:STANDARD
TZOFFSETFROM:+0800
TZOFFSETTO:+0800
TZNAME:AWST
DTSTART:20210101T000000
END:STANDARD
END:VTIMEZONE
BEGIN:VTIMEZONE
TZID:Australia/Sydney
BEGIN:STANDARD
TZOFFSETFROM:+1100
TZOFFSETTO:+1000
TZNAME:AEST
DTSTART:20210403T160000
END:STANDARD
BEGIN:DAYLIGHT
TZOFFSETFROM:+1000
TZOFFSETTO:+1100
TZNAME:AEDT
DTSTART:20211002T160000
END:DAYLIGHT
BEGIN:STANDARD
TZOFFSETFROM:+1100
TZOFFSETTO:+1000
TZNAME:AEST
DTSTART:20220402T160000
END:STANDARD
BEGIN:DAYLIGHT
TZOFFSETFROM:+1000
TZOFFSETTO:+1100
TZNAME:AEDT
DTSTART:20221001T160000
END:DAYLIGHT
BEGIN:STANDARD
TZOFFSETFROM:+1100
TZOFFSETTO:+1000
TZNAME:AEST
DTSTART:20230401T160000
END:STANDARD
BEGIN:DAYLIGHT
TZOFFSETFROM:+1000
TZOFFSETTO:+1100
TZNAME:AEDT
DTSTART:20230930T160000
END:DAYLIGHT
END:VTIMEZONE
BEGIN:VEVENT
DTSTART;TZID=Australia/Perth:20220811T160000
DTEND;TZID=Australia/Perth:20221108T173000
DTSTAMP:20260421T205346
CREATED:20250224T010757Z
LAST-MODIFIED:20250225T031117Z
UID:14943-1660233600-1667928600@pianc.org.au
SUMMARY:PIANC WA Industry/ Student Pizza Night 11 August 2022
DESCRIPTION:Industry event for ports and maritime professionals to spread the word about our industry and meet students\n\n\n\n\n\nWe invite students from all universities and schools on Thursday 11 August 4-5.30pm at the Tav\, Curtin University to join us to discuss career options in Ports and Maritime related industries including related fields such as coastal\, construction\, research\, environmental\, etc… \nThis event is FREE for students. \nWe invite PIANC member companies to attend with 1- 3 people and 1 x free standing promotional banner. You are welcome to give out brochures and business cards but keep in mind the intent is to spread knowledge and enthusiasm about our industry as a whole. \nThe cost to attend is $100 per company\, which will contribute to the cost of this event and support our other student and young professional activities such as our popular leadership breakfast series. PIANC member companies please register here to attend this event. \nDownload student flyer here.\nDownload Company flyer here.
URL:https://pianc.org.au/event/pianc-wa-industry-student-pizza-night-11-august-2022/
CATEGORIES:PIANC Aus & NZ
ATTACH;FMTTYPE=image/jpeg:https://pianc.org.au/wp-content/uploads/2025/02/62e23b83cee014639748d0f2s.jpg
END:VEVENT
BEGIN:VEVENT
DTSTART;VALUE=DATE:20220904
DTEND;VALUE=DATE:20220908
DTSTAMP:20260421T205346
CREATED:20250224T010532Z
LAST-MODIFIED:20250224T010532Z
UID:14940-1662249600-1662595199@pianc.org.au
SUMMARY:PIANC APAC Conference 2022 Melbourne 4-7 Sept
DESCRIPTION:PIANC APAC is the biennial forum for all PIANC members from Asia Pacific and beyond focusing on harbours\, ports and recreational boating in the region. Non PIANC members are also welcome. The inaugural PIANC APAC Conference was held in Fremantle\, WA in December 2020. \nOur 2022 conference theme “Leaders and Professionals Coming Together” reflects PIANC’s mission to bring together ports\, harbour and recreational boating professionals and ideas to an international forum\, and the opportunities for our members to become leaders in the industry. As our first opportunity to all come together in person for several years\, we hope you’ll join us in Melbourne on 4 -7 September 2022. \nProgram now available – attached is program as at 15 August 2022 – check Conference website for any updates.  \nPIANC APAC 2022 will incorporate concurrent streams facilitating the opportunity for discussion and networking. A trade exhibition will host the Welcome Reception as well as all morning tea\, afternoon tea and lunch breaks. A Gala Dinner is planned with multiple PIANC awards to be presented. \nTechnical tours will also showcase some of the most interesting and innovative developments in the Australian maritime sector.\nNote: The Conference will not include any full peer reviewed papers\, rather authors are required to submit one or two page Extended Abstracts following the template provided. \nSee more information here:  https://piancapac.com/call-for-abstracts/ \n 
URL:https://pianc.org.au/event/pianc-apac-conference-2022-melbourne-4-7-sept/
CATEGORIES:PIANC Aus & NZ
ATTACH;FMTTYPE=image/jpeg:https://pianc.org.au/wp-content/uploads/2025/02/625818179d44a7762d3dc3c2s.jpg
END:VEVENT
END:VCALENDAR