BEGIN:VCALENDAR
VERSION:2.0
PRODID:-//PIANC Australia &amp; New Zealand - ECPv6.15.17.1//NONSGML v1.0//EN
CALSCALE:GREGORIAN
METHOD:PUBLISH
X-ORIGINAL-URL:https://pianc.org.au
X-WR-CALDESC:Events for PIANC Australia &amp; New Zealand
REFRESH-INTERVAL;VALUE=DURATION:PT1H
X-Robots-Tag:noindex
X-PUBLISHED-TTL:PT1H
BEGIN:VTIMEZONE
TZID:Australia/Darwin
BEGIN:STANDARD
TZOFFSETFROM:+0930
TZOFFSETTO:+0930
TZNAME:ACST
DTSTART:20210101T000000
END:STANDARD
END:VTIMEZONE
BEGIN:VTIMEZONE
TZID:Australia/Sydney
BEGIN:STANDARD
TZOFFSETFROM:+1100
TZOFFSETTO:+1000
TZNAME:AEST
DTSTART:20210403T160000
END:STANDARD
BEGIN:DAYLIGHT
TZOFFSETFROM:+1000
TZOFFSETTO:+1100
TZNAME:AEDT
DTSTART:20211002T160000
END:DAYLIGHT
BEGIN:STANDARD
TZOFFSETFROM:+1100
TZOFFSETTO:+1000
TZNAME:AEST
DTSTART:20220402T160000
END:STANDARD
BEGIN:DAYLIGHT
TZOFFSETFROM:+1000
TZOFFSETTO:+1100
TZNAME:AEDT
DTSTART:20221001T160000
END:DAYLIGHT
BEGIN:STANDARD
TZOFFSETFROM:+1100
TZOFFSETTO:+1000
TZNAME:AEST
DTSTART:20230401T160000
END:STANDARD
BEGIN:DAYLIGHT
TZOFFSETFROM:+1000
TZOFFSETTO:+1100
TZNAME:AEDT
DTSTART:20230930T160000
END:DAYLIGHT
END:VTIMEZONE
BEGIN:VEVENT
DTSTART;TZID=Australia/Darwin:20220601T170000
DTEND;TZID=Australia/Darwin:20220601T190000
DTSTAMP:20260422T013914
CREATED:20250224T021245Z
LAST-MODIFIED:20250224T021326Z
UID:14969-1654102800-1654110000@pianc.org.au
SUMMARY:Darwin Ports & Maritime Networking 1 June 2022
DESCRIPTION:PIANC ANZ Northern Chapter cordially invites you to join this networking sundowner event in Darwin.\n \n\n\n\n\n\nDon’t miss this opportunity to network with maritime colleagues in the Top End and learn more about PIANC\, the World Association of Waterborne Transport Infrastructure!\n\n\nDate and time \n\nWed 1 June 2022 \n5:00 pm – 7:00 pm ACST \nEvent is free but registrations are ESSENTIAL! Register here.  \n Event enquiries: Harry.gibbs@rhdhv.com or Ruth.Patterson@cdu.edu.au \n 
URL:https://pianc.org.au/event/darwin-ports-maritime-networking-1-june-2022/
CATEGORIES:PIANC Aus & NZ
END:VEVENT
BEGIN:VEVENT
DTSTART;TZID=Australia/Sydney:20220610T140000
DTEND;TZID=Australia/Sydney:20220610T160000
DTSTAMP:20260422T013914
CREATED:20250224T021044Z
LAST-MODIFIED:20250224T021044Z
UID:14966-1654869600-1654876800@pianc.org.au
SUMMARY:PIANC A&NZ 2022 AGM 10 June 2022
DESCRIPTION:The 2022 AGM will be conducted virtually (solely online). All members are cordially invited to attend and further details (including meeting papers and directions on how to join and participate in the virtual meeting) will be distributed to members prior to the AGM. \nIf you are interested in attending the AGM online\, it would be appreciated if you could reply to Chris.Carboon@jacobs.com  expressing your interest. This will help us to gauge likely numbers and prepare accordingly. \n 
URL:https://pianc.org.au/event/pianc-anz-2022-agm-10-june-2022/
CATEGORIES:PIANC Aus & NZ
ATTACH;FMTTYPE=image/jpeg:https://pianc.org.au/wp-content/uploads/2025/02/628ca82fa4816e2eeb17b484s.jpg
END:VEVENT
BEGIN:VEVENT
DTSTART;TZID=Australia/Sydney:20220622T070000
DTEND;TZID=Australia/Sydney:20220622T090000
DTSTAMP:20260422T013914
CREATED:20250224T020837Z
LAST-MODIFIED:20250224T020837Z
UID:14963-1655881200-1655888400@pianc.org.au
SUMMARY:PIANC Newcastle Young Professionals Leadership Breakfast 22 June 2022
DESCRIPTION:PIANC Young Professionals Leadership Breakfast Series – Newcastle  \nPIANC invites young professionals in the ports and maritime industry to join us for a FREE leadership breakfast on Wed 22 June at Cirque Cafe\, 8 Bolton St\, Newcastle\, at 7am. \nAttendance\, food and coffee is free but registration is ESSENTIAL \nAnyone 40 years of age or under who is interested in Ports and Marine is welcome to join us including students and those working in related industries such as coastal\, environmental\, logistics etc. \nWe will hear from two industry professionals about their career journeys and meet other likeminded YPs over breakfast. \nJackie Spiteri – Founder and Managing Director\, Sustainable ESG \nJackie was the Senior Manager of ESG for the Port of Newcastle for over eleven years\, until recently becoming the founder and Managing Director of boutique ESG advisory company Sustainable ESG. \nJackie sits on the Board for PIANC ANZ and is a former Chair of the Ports Australia Environment Planning and Sustainability Working Group. Jackie will be discussing her career journey\, following her passion for ESG and starting her own business. \nNick Lewis – Director and Senior Scientist\, Royal Haskoning DHV \nNick has a background in Coastal\, Estuarine and River Environmental Science and Engineering and has international experience\, having previously worked throughout the UK\, Bermuda\, Greece\, Australia and New Zealand. \nNick will be speaking about what he has learned over the years including working around the world in a variety of roles from scientific diver and geomorphologist to director. \nThis event is sponsored by PIANC Corporate sponsors Royal Haskoning DHV – global maritime consultants specialising in the planning and design of marine facilities\, ports\, terminals and shipyards \nPlease register here.  \n\nThis Breakfast is part of an exciting national series of YP leadership breakfasts –  Brisbane will follow in early July and Melbourne on 20 July. 
URL:https://pianc.org.au/event/pianc-newcastle-young-professionals-leadership-breakfast-22-june-2022/
CATEGORIES:PIANC Aus & NZ
ATTACH;FMTTYPE=image/jpeg:https://pianc.org.au/wp-content/uploads/2025/02/628fedbc69e10951341c7c33s.jpg
END:VEVENT
END:VCALENDAR