BEGIN:VCALENDAR
VERSION:2.0
PRODID:-//PIANC Australia &amp; New Zealand - ECPv6.15.17.1//NONSGML v1.0//EN
CALSCALE:GREGORIAN
METHOD:PUBLISH
X-ORIGINAL-URL:https://pianc.org.au
X-WR-CALDESC:Events for PIANC Australia &amp; New Zealand
REFRESH-INTERVAL;VALUE=DURATION:PT1H
X-Robots-Tag:noindex
X-PUBLISHED-TTL:PT1H
BEGIN:VTIMEZONE
TZID:Australia/Perth
BEGIN:STANDARD
TZOFFSETFROM:+0800
TZOFFSETTO:+0800
TZNAME:AWST
DTSTART:20210101T000000
END:STANDARD
END:VTIMEZONE
BEGIN:VEVENT
DTSTART;TZID=Australia/Perth:20220518T133000
DTEND;TZID=Australia/Perth:20220518T153000
DTSTAMP:20260422T032029
CREATED:20250224T021524Z
LAST-MODIFIED:20250224T021524Z
UID:14973-1652880600-1652887800@pianc.org.au
SUMMARY:International Day for Women in Maritime\, Fremantle Event - Panel Discussion & Cruise! 18 May 2022
DESCRIPTION:Celebrate the inaugural International Day for Women in Maritime with PIANC\, WISTA and the Department of Transport – Maritime. \nOn Wed 18th May 1.30-3.30pm \nat Level 4\, 5 Newman Court\, Fremantle. \nOur inspiring panel will be sharing their stories\, experiences\, and words of motivation from their careers as women in maritime: \n\nNicole Lockwood is Chairperson of Infrastructure WA\nKathryn Davies is Team Leader of Navigational Safety at the Department of Transport – Maritime\nCarol Shannon is CEO of the Leeuwin Ocean Adventure Foundation\n\nThis PIANC & WISTA event is kindly hosted by the Department of Transport – Maritime. A light lunch will be provided. \nThe panel event will be followed by a relaxing networking event with a cruise on the Swan River\, from 4-6pm starting and finishing at B-Shed Fremantle. All genders welcome. \nWelcome drink and nibbles included in cruise price\, a cash bar will be available for additional drinks purchases. \nWe are grateful for the generous support of our cruise host Sealink\, and sponsors Sealink\, Hall & Wilcox\, City of Cockburn\, Australian Institute of Marine Surveyors\, and KBR! \nALL are welcome but RSVP is essential \nPIANC Members access registration code for FREE (for panel)  or DISCOUNTED (for Cruise) registration is PIANC \nRegister here for Panel Event:  https://wistaaustralia.wildapricot.org/event-4767557 \nRegister here for Cruise Event: https://wistaaustralia.wildapricot.org/event-4816834 \nBig Thanks to organisers  Nancy Haddadeen\, Kerryn Woonings\, Kendall Messer & Claire Treeby \n 
URL:https://pianc.org.au/event/international-day-for-women-in-maritime-fremantle-event-panel-discussion-cruise-18-may-2022/
CATEGORIES:PIANC Aus & NZ
ATTACH;FMTTYPE=image/jpeg:https://pianc.org.au/wp-content/uploads/2025/02/626f0cd6d73914653e6696dcs.jpg
END:VEVENT
END:VCALENDAR