BEGIN:VCALENDAR
VERSION:2.0
PRODID:-//PIANC Australia &amp; New Zealand - ECPv6.15.17.1//NONSGML v1.0//EN
CALSCALE:GREGORIAN
METHOD:PUBLISH
X-WR-CALNAME:PIANC Australia &amp; New Zealand
X-ORIGINAL-URL:https://pianc.org.au
X-WR-CALDESC:Events for PIANC Australia &amp; New Zealand
REFRESH-INTERVAL;VALUE=DURATION:PT1H
X-Robots-Tag:noindex
X-PUBLISHED-TTL:PT1H
BEGIN:VTIMEZONE
TZID:Pacific/Auckland
BEGIN:STANDARD
TZOFFSETFROM:+1300
TZOFFSETTO:+1200
TZNAME:NZST
DTSTART:20210403T140000
END:STANDARD
BEGIN:DAYLIGHT
TZOFFSETFROM:+1200
TZOFFSETTO:+1300
TZNAME:NZDT
DTSTART:20210925T140000
END:DAYLIGHT
BEGIN:STANDARD
TZOFFSETFROM:+1300
TZOFFSETTO:+1200
TZNAME:NZST
DTSTART:20220402T140000
END:STANDARD
BEGIN:DAYLIGHT
TZOFFSETFROM:+1200
TZOFFSETTO:+1300
TZNAME:NZDT
DTSTART:20220924T140000
END:DAYLIGHT
BEGIN:STANDARD
TZOFFSETFROM:+1300
TZOFFSETTO:+1200
TZNAME:NZST
DTSTART:20230401T140000
END:STANDARD
BEGIN:DAYLIGHT
TZOFFSETFROM:+1200
TZOFFSETTO:+1300
TZNAME:NZDT
DTSTART:20230923T140000
END:DAYLIGHT
END:VTIMEZONE
BEGIN:VTIMEZONE
TZID:Australia/Perth
BEGIN:STANDARD
TZOFFSETFROM:+0800
TZOFFSETTO:+0800
TZNAME:AWST
DTSTART:20210101T000000
END:STANDARD
END:VTIMEZONE
BEGIN:VEVENT
DTSTART;VALUE=DATE:20220411
DTEND;VALUE=DATE:20220414
DTSTAMP:20260422T044551
CREATED:20250224T022159Z
LAST-MODIFIED:20250224T022227Z
UID:14981-1649635200-1649894399@pianc.org.au
SUMMARY:Coasts and Ports 2021/2022\, held online  11 -13 April 2022
DESCRIPTION:Kei te rangatira\, tēnā koutou.\nA Message from Coasts & Ports 2021 Co-Chairs\nCoasts & Ports 2021 11th to 13th April 2022 \nAs a result of the ongoing challenges in relation to the COVID-19 pandemic\, we have made the difficult decision to make the upcoming Australasian Coasts & Ports 2021 Conference a fully virtual event. \n\n\n\nThe health and wellbeing of all conference participants has always been our utmost priority and given the current situation and advice from health authorities and New Zealand’s shift into ‘red’ alert\, it is not possible to deliver a large-scale in-person event this year. \nWhile it is disappointing to not be able to gather in person at Te Pae\, Christchurch as originally planned\, we are working extremely hard to deliver a unique conference experience for all participants. The conference will be hosted on a premium interactive platform that provides a live online and on-demand experience with rich interactive content. \n\n\n\n\n\n\nThe conference will take place online 11-13 April 2022\, however the conference program may look slightly different to what was originally intended.  The virtual program will provide: \n\nAccess to over 150 presentations for the duration of the conference including:\n\nAdditional international keynote speakers\nExpert Panel sessions with knowledgeable and engaging panellists\nA special session on the Hunga Tonga-Hunga Ha’apai eruption and tsunami\n\n\nThe opportunity to participate in live Q&As with presenters\nNetworking opportunities with other delegates\, speakers and industry\nVirtual activities within the conference platform\nAccess to conference content for on demand viewing (up to 3 months post conference)\n\nWe look forward to welcoming you online. \nNgā manaakitanga. \nDeirdre Hart and Tom Shand\nConference Co-chairs \n\n\n\n 
URL:https://pianc.org.au/event/coasts-and-ports-2022-held-online-11-13-april-2022/
CATEGORIES:PIANC Aus & NZ,PIANC Global
ATTACH;FMTTYPE=image/jpeg:https://pianc.org.au/wp-content/uploads/2025/02/5fb4a4da022e3b6d5c589fb0s.jpg
END:VEVENT
BEGIN:VEVENT
DTSTART;TZID=Australia/Perth:20220413T173000
DTEND;TZID=Australia/Perth:20220413T193000
DTSTAMP:20260422T044551
CREATED:20250224T021800Z
LAST-MODIFIED:20250224T021910Z
UID:14976-1649871000-1649878200@pianc.org.au
SUMMARY:PIANC WA: Coasts and Ports Networking 13 April 2022
DESCRIPTION:Networking for professionals in the WA ports and marine industry\n\n\n\n\n\n\n\n\nNetworking opportunity for those working in the WA Ports and Marine industry inspired by the close of the 2021/2022 Coasts and Ports Conference. All professionals in the industry are welcome to join us for drinks and canapes at the  Old Courthouse Fremantle \nThe event is organised by the World Association for Waterborne Transport Infrastructure (PIANC) and drinks are provided by our generous sponsor McConnell Dowell. \nConference attendees and non-attendees are welcome to this event\, however we do encourage you to register for the full conference if you are able. More information can be found at http://www.coastsandports2021.co.nz/ \nAbout our sponsor: \nThe McConnell Dowell name is synonymous with marine design and construction with over 330 marine projects successfully completed. For over 60 years we have delivered winning solutions for wharves\, jetties\, ocean outfalls\, breakwaters\, causeways and submarine pipelines. \nThis event is FREE but registrations are essential. Register here. 
URL:https://pianc.org.au/event/pianc-wa-coasts-and-ports-networking-13-april-2022/
CATEGORIES:PIANC Aus & NZ
ATTACH;FMTTYPE=image/jpeg:https://pianc.org.au/wp-content/uploads/2025/02/624ab93bc5ba6d0c3b63013as.jpg
END:VEVENT
END:VCALENDAR