BEGIN:VCALENDAR
VERSION:2.0
PRODID:-//PIANC Australia &amp; New Zealand - ECPv6.15.17.1//NONSGML v1.0//EN
CALSCALE:GREGORIAN
METHOD:PUBLISH
X-ORIGINAL-URL:https://pianc.org.au
X-WR-CALDESC:Events for PIANC Australia &amp; New Zealand
REFRESH-INTERVAL;VALUE=DURATION:PT1H
X-Robots-Tag:noindex
X-PUBLISHED-TTL:PT1H
BEGIN:VTIMEZONE
TZID:Australia/Perth
BEGIN:STANDARD
TZOFFSETFROM:+0800
TZOFFSETTO:+0800
TZNAME:AWST
DTSTART:20200101T000000
END:STANDARD
END:VTIMEZONE
BEGIN:VTIMEZONE
TZID:Australia/Melbourne
BEGIN:STANDARD
TZOFFSETFROM:+1100
TZOFFSETTO:+1000
TZNAME:AEST
DTSTART:20200404T160000
END:STANDARD
BEGIN:DAYLIGHT
TZOFFSETFROM:+1000
TZOFFSETTO:+1100
TZNAME:AEDT
DTSTART:20201003T160000
END:DAYLIGHT
BEGIN:STANDARD
TZOFFSETFROM:+1100
TZOFFSETTO:+1000
TZNAME:AEST
DTSTART:20210403T160000
END:STANDARD
BEGIN:DAYLIGHT
TZOFFSETFROM:+1000
TZOFFSETTO:+1100
TZNAME:AEDT
DTSTART:20211002T160000
END:DAYLIGHT
BEGIN:STANDARD
TZOFFSETFROM:+1100
TZOFFSETTO:+1000
TZNAME:AEST
DTSTART:20220402T160000
END:STANDARD
BEGIN:DAYLIGHT
TZOFFSETFROM:+1000
TZOFFSETTO:+1100
TZNAME:AEDT
DTSTART:20221001T160000
END:DAYLIGHT
END:VTIMEZONE
BEGIN:VTIMEZONE
TZID:Australia/Sydney
BEGIN:STANDARD
TZOFFSETFROM:+1100
TZOFFSETTO:+1000
TZNAME:AEST
DTSTART:20200404T160000
END:STANDARD
BEGIN:DAYLIGHT
TZOFFSETFROM:+1000
TZOFFSETTO:+1100
TZNAME:AEDT
DTSTART:20201003T160000
END:DAYLIGHT
BEGIN:STANDARD
TZOFFSETFROM:+1100
TZOFFSETTO:+1000
TZNAME:AEST
DTSTART:20210403T160000
END:STANDARD
BEGIN:DAYLIGHT
TZOFFSETFROM:+1000
TZOFFSETTO:+1100
TZNAME:AEDT
DTSTART:20211002T160000
END:DAYLIGHT
BEGIN:STANDARD
TZOFFSETFROM:+1100
TZOFFSETTO:+1000
TZNAME:AEST
DTSTART:20220402T160000
END:STANDARD
BEGIN:DAYLIGHT
TZOFFSETFROM:+1000
TZOFFSETTO:+1100
TZNAME:AEDT
DTSTART:20221001T160000
END:DAYLIGHT
END:VTIMEZONE
BEGIN:VEVENT
DTSTART;TZID=Australia/Perth:20211201T120000
DTEND;TZID=Australia/Perth:20211201T140000
DTSTAMP:20260422T120603
CREATED:20250225T212307Z
LAST-MODIFIED:20250225T212307Z
UID:15006-1638360000-1638367200@pianc.org.au
SUMMARY:PIANC WA Women’s Network Lunch 1 Dec 2021
DESCRIPTION:PIANC WA Women’s Network Lunch\nPIANC WA Chapter invites all women in the ports and marine industry including coastal\, management and research fields to join us for lunch at Bayside kitchen in Matilda Bay. \nThis is the first of a future series of events supporting women in our industry by building our networks. \nLunch will be provided by PIANC ANZ and our sponsor Maritime Constructions – maritime infrastructure specialists in WA and SA.
URL:https://pianc.org.au/event/pianc-wa-womens-network-lunch-1-dec-2021/
CATEGORIES:PIANC Aus & NZ
ATTACH;FMTTYPE=image/jpeg:https://pianc.org.au/wp-content/uploads/2025/02/618ca23177fa0d53a711dfacs.jpg
END:VEVENT
BEGIN:VEVENT
DTSTART;TZID=Australia/Perth:20211202T163000
DTEND;TZID=Australia/Perth:20211202T183000
DTSTAMP:20260422T120603
CREATED:20250225T212041Z
LAST-MODIFIED:20250225T212041Z
UID:15003-1638462600-1638469800@pianc.org.au
SUMMARY:WA Technical Seminar - Cairns Shipping Development Project  2 Dec 2021
DESCRIPTION:PIANC WA Chapter presents a hybrid technical seminar – available in person and online: Viewable at https://pianc.org.au/resources/webinars-presentations/ \nCairns Shipping Development Project\nOnline or in person at Indian Ocean Marine Research Centre\, UWA \nLearn about this complex channel deepening project in Far North Queensland with insight from the consultant and the contractor’s perspective. \nThe project was awarded an Engineers Australia QLD AEEA award in 2020. \nThe seminar will be followed by drinks and canapes provided by PIANC ANZ corporate members Hall Contracting – Australia’s largest privately-owned dredging\, civil and marine construction company and BMT\, an international design\, engineering\, science and risk management consultancy. \nThe event is FREE but registrations are ESSENTIAL.\nThank to our sponsors and corporate members:
URL:https://pianc.org.au/event/wa-technical-seminar-cairns-shipping-development-project-2-dec-2021/
CATEGORIES:PIANC Aus & NZ
ATTACH;FMTTYPE=image/jpeg:https://pianc.org.au/wp-content/uploads/2025/02/618cb7e59adf684e3075fa62s.jpg
END:VEVENT
BEGIN:VEVENT
DTSTART;TZID=Australia/Melbourne:20211202T170000
DTEND;TZID=Australia/Melbourne:20211202T200000
DTSTAMP:20260422T120603
CREATED:20250225T204750Z
LAST-MODIFIED:20250225T204750Z
UID:15000-1638464400-1638475200@pianc.org.au
SUMMARY:PIANC VIC - Members Christmas Connect 2 Dec 2021
DESCRIPTION:PIANC ANZ Victoria Chapter invites members and colleagues to a social evening in Melbourne at European Bier Cafe on Dec 2nd @5pm.\n\n\n\n\n\nAfter a long two years in Victoria\, it’s time to get out again! Come and catch up for some Christmas drinks with ports and maritime industry colleagues – hosted by the PIANC Vic Chapter. \n\n\nWe’ve reserved the rooftop of the European Bier Café for this PIANC networking social event. So come and let your hair down\, catch up with some friends\, and meet some new ones. \nThis is a free event but registrations are ESSENTIAL! \nPlease register here. \nVenue numbers are strictly controlled\, so the RSVP and ticket at entry is a must. \nLook forward to seeing everyone there!
URL:https://pianc.org.au/event/pianc-vic-members-christmas-connect-2-dec-2021/
CATEGORIES:PIANC Aus & NZ
ATTACH;FMTTYPE=image/jpeg:https://pianc.org.au/wp-content/uploads/2025/02/618c81e92f166d1ba0558384s.jpg
END:VEVENT
BEGIN:VEVENT
DTSTART;TZID=Australia/Sydney:20211215T190000
DTEND;TZID=Australia/Sydney:20211215T210000
DTSTAMP:20260422T120603
CREATED:20250225T204556Z
LAST-MODIFIED:20250225T204556Z
UID:14997-1639594800-1639602000@pianc.org.au
SUMMARY:PIANC NSW Networking 15 Dec 2021
DESCRIPTION:The NSW Chapter of PIANC ANZ cordially invites you to join our upcoming Young Professionals (YP) sundowner networking event in Sydney’s Lord Nelson Brewery on Wednesday\, 15 December. \nThis event is open to anyone and everyone within\, or wanting to gain greater insight into\, the coastal and maritime community. \nDon’t miss the opportunity to network with peers and mentors within our industry. \nSo\, come down and join us for FREE drinks and canapes! \nPIANC members and non-members are welcome\, regardless of age\, so spread the word! \nThis event is free but registrations are ESSENTIAL! \nPlease RSVP with your interest. To RSVP using the link provided below before 10 December for catering purposes. \nhttps://www.surveymonkey.com/r/HHM3JK9
URL:https://pianc.org.au/event/pianc-nsw-networking-15-dec-2021/
CATEGORIES:PIANC Aus & NZ
ATTACH;FMTTYPE=image/jpeg:https://pianc.org.au/wp-content/uploads/2025/02/61afe00ad1e3a45d8d0053f9s.jpg
END:VEVENT
END:VCALENDAR