BEGIN:VCALENDAR
VERSION:2.0
PRODID:-//PIANC Australia &amp; New Zealand - ECPv6.15.17.1//NONSGML v1.0//EN
CALSCALE:GREGORIAN
METHOD:PUBLISH
X-WR-CALNAME:PIANC Australia &amp; New Zealand
X-ORIGINAL-URL:https://pianc.org.au
X-WR-CALDESC:Events for PIANC Australia &amp; New Zealand
REFRESH-INTERVAL;VALUE=DURATION:PT1H
X-Robots-Tag:noindex
X-PUBLISHED-TTL:PT1H
BEGIN:VTIMEZONE
TZID:Australia/Perth
BEGIN:STANDARD
TZOFFSETFROM:+0800
TZOFFSETTO:+0800
TZNAME:AWST
DTSTART:20200101T000000
END:STANDARD
END:VTIMEZONE
BEGIN:VTIMEZONE
TZID:Australia/Darwin
BEGIN:STANDARD
TZOFFSETFROM:+0930
TZOFFSETTO:+0930
TZNAME:ACST
DTSTART:20200101T000000
END:STANDARD
END:VTIMEZONE
BEGIN:VEVENT
DTSTART;TZID=Australia/Perth:20211013T170000
DTEND;TZID=Australia/Perth:20211013T180000
DTSTAMP:20260422T154205
CREATED:20250225T215907Z
LAST-MODIFIED:20250225T215907Z
UID:15024-1634144400-1634148000@pianc.org.au
SUMMARY:WA Chapter -Perth Students Ports & Maritime Industry ( & Pizza) Night 13 Oct 2021
DESCRIPTION:PIANC WA Chapter is hosting a Perth Students Industry Night – raising awareness of the ports and marine industry – students of all ages are encouraged to drop by and chat to industry representatives over pizza \nWednesday 13th October at the UWA Indian Ocean Marine Research Centre(IOMRC) from 5 – 6pm AWST.\nFor more information please contact Claire.Treeby at Hatch.com \n 
URL:https://pianc.org.au/event/wa-chapter-perth-students-ports-maritime-industry-pizza-night-13-oct-2021/
CATEGORIES:PIANC Aus & NZ
ATTACH;FMTTYPE=image/jpeg:https://pianc.org.au/wp-content/uploads/2025/02/615fb0d5e8ee0e78533c7845s.jpg
END:VEVENT
BEGIN:VEVENT
DTSTART;TZID=Australia/Darwin:20211013T170000
DTEND;TZID=Australia/Darwin:20211013T190000
DTSTAMP:20260422T154205
CREATED:20250225T220205Z
LAST-MODIFIED:20250225T220205Z
UID:15027-1634144400-1634151600@pianc.org.au
SUMMARY:Darwin PIANC Free Networking 13 Oct 2021
DESCRIPTION:PIANC Australia’s Northern Chapter invites you to join this FREE networking event at Smith St Social Rooftop\, on Wednesday 13 October 5pm ACST in Darwin\, NT for professionals (and students) in the ports and maritime sector. \nThis is an opportunity to network with other maritime colleagues in the Top End and learn more about PIANC\, the World Association for Waterborne Transport Infrastructure. \nEntry is free\, and drinks and canapés will be provided. \nPlease register your attendance using Eventbrite.  \nRSVP by 6 October.  Download flyer here.  \nMore information on PIANC can be found here: https://pianc.org.au/ \nor contact the event organiser Harry Gibbs; Harry.gibbs@rhdhv.com \n 
URL:https://pianc.org.au/event/darwin-pianc-free-networking-13-oct-2021/
CATEGORIES:PIANC Aus & NZ
ATTACH;FMTTYPE=image/jpeg:https://pianc.org.au/wp-content/uploads/2025/02/614fb472ba415201b0760d55s.jpg
END:VEVENT
BEGIN:VEVENT
DTSTART;TZID=Australia/Perth:20211027T173000
DTEND;TZID=Australia/Perth:20211027T193000
DTSTAMP:20260422T154205
CREATED:20250225T215646Z
LAST-MODIFIED:20250225T215705Z
UID:15021-1635355800-1635363000@pianc.org.au
SUMMARY:WA PIANC EA COPEP Technical Seminar/Webinar - Ocean Reef Marina Development 27 Oct 2021
DESCRIPTION:Development WA’s Ocean Reef Marina is the newest\, largest and one of the most challenging coastal projects to be undertaken along the  Western Australian coastline. \nThough first conceptualised in the 1980s\, a mix of today’s commercial\, recreational\, and residential development standards is set to ensure it meets the needs of Perth’s expanding northern development corridor. \nFor those of you who are keen followers of the Ocean Reef Marina Development – this talk is not to be missed! \nFree for PIANC members to attend online or in person in Perth. \nThe technical seminar is organised by Engineers Australia’s WA Coastal\, Ocean & Port Engineering Panel (COPEP)\, and the presentation is delivered by the project’s leading coastal engineers who will provide an overview of the general construction works completed on site and the challenges faced in the delivery. \nThe seminar is scheduled for Wednesday 27 October 2021 at 5:30pm for a 6:00pm start AWST. \nAttendees of this presentation will also be invited to a site visit to follow on Saturday 30 October 2021\, led by WA Limestone Project Manager to witness the logistics involved with working on this impressive project\, and for a brief interaction with the contractors delivering the works on the ground. \nPlease use the link to register for this event. It is free for Engineers Australia & PIANC members.
URL:https://pianc.org.au/event/wa-pianc-ea-copep-technical-seminar-webinar-ocean-reef-marina-development-27-oct-2021/
CATEGORIES:PIANC Aus & NZ
ATTACH;FMTTYPE=image/jpeg:https://pianc.org.au/wp-content/uploads/2025/02/615fb5d57a974834df3ee9efs.jpg
END:VEVENT
END:VCALENDAR